BEGIN:VCALENDAR
PRODID:-//Microsoft Corporation//Outlook 12.0 MIMEDIR//EN
VERSION:2.0
CALSCALE:GREGORIAN
BEGIN:VEVENT
UID: 0463dd98-4115-492d-beba-0a0d5bde22a5
SUMMARY:Talvine lõpuaktus
DTSTAMP:20240301T140000
DTSTART:20240301T140000
DTEND:20240301T160000
LOCATION:Aula
DESCRIPTION: <p>Kuressaare Ametikooli lõpetavad õpperühmad:</p><p>Kujundaja (liikuva graafika kujundaja) (KLG-20), rühmajuhataja Karin Oinberg</p><p>Kujundaja (stilist) (KSP-20), rühmajuhataja Karin Oinberg</p><p>Pagar (P-23T), rühmajuhataja Reena Smidt</p><p>Hooldustöötaja (HTT-23T), rühmajuhataja Merle Tuulik</p><p>Bussijuht (BJ-23), rühmajuhataja Ade Sepp</p><p>CNC puidutöötlemiskeskuse operaator (CNC-23), rühmajuhataja Bret Paas</p><p>Veoautojuht (VJ-23), rühmajuhataja Ade Sepp</p><p>Väikeettevõtja (VE-22), rühmajuhataja Anne Lember</p><p>Spaateenindaja (SPA-22), rühmajuhataja Marella Kakkum</p><p>Kujundaja (interaktiivse graafika kujundaja) (KIG-21), rühmajuhataja Karin Oinberg</p><p><strong>Link: </strong>https://ametikool.ee/et/sundmuste-kalender/talvine-lopuaktus-0</p><p><strong>Hind: </strong></p>
STATUS:CONFIRMED
SEQUENCE:3
X-ALT-DESC;FMTTYPE=text/html:<p>Kuressaare Ametikooli lõpetavad õpperühmad:</p><p>Kujundaja (liikuva graafika kujundaja) (KLG-20), rühmajuhataja Karin Oinberg</p><p>Kujundaja (stilist) (KSP-20), rühmajuhataja Karin Oinberg</p><p>Pagar (P-23T), rühmajuhataja Reena Smidt</p><p>Hooldustöötaja (HTT-23T), rühmajuhataja Merle Tuulik</p><p>Bussijuht (BJ-23), rühmajuhataja Ade Sepp</p><p>CNC puidutöötlemiskeskuse operaator (CNC-23), rühmajuhataja Bret Paas</p><p>Veoautojuht (VJ-23), rühmajuhataja Ade Sepp</p><p>Väikeettevõtja (VE-22), rühmajuhataja Anne Lember</p><p>Spaateenindaja (SPA-22), rühmajuhataja Marella Kakkum</p><p>Kujundaja (interaktiivse graafika kujundaja) (KIG-21), rühmajuhataja Karin Oinberg</p><p><strong>Link: </strong>https://ametikool.ee/et/sundmuste-kalender/talvine-lopuaktus-0</p><p><strong>Hind: </strong></p>
X-MICROSOFT-CDO-BUSYSTATUS:OOF
X-MICROSOFT-CDO-IMPORTANCE:1
X-MICROSOFT-DISALLOW-COUNTER:FALSE
X-MS-OLK-ALLOWEXTERNCHECK:TRUE
X-MS-OLK-CONFTYPE:0
X-MICROSOFT-CDO-ALLDAYEVENT:
X-MICROSOFT-MSNCALENDAR-ALLDAYEVENT:
END:VEVENT
END:VCALENDAR