BEGIN:VCALENDAR
PRODID:-//Microsoft Corporation//Outlook 12.0 MIMEDIR//EN
VERSION:2.0
CALSCALE:GREGORIAN
BEGIN:VEVENT
UID: 0afd55bf-1bfd-4ba6-a639-ada51dde8fbe
SUMMARY:Esmaabi koolitus
DTSTAMP:20190404
DTSTART:20190404
DTEND:20190405
DURATION:P1D
LOCATION:
DESCRIPTION: <p>	Tasuline kursus.&nbsp;<a href="/et/koolitusmajakas/tasulised-ja-tellitavad-koolitused">Loe rohkem</a>!</p><p><strong>Link: </strong>https://ametikool.ee/et/koolituste-kalender/esmaabi-koolitus-0</p><p><strong>Hind: </strong>30</p>
STATUS:CONFIRMED
SEQUENCE:3
X-ALT-DESC;FMTTYPE=text/html:<p>	Tasuline kursus.&nbsp;<a href="/et/koolitusmajakas/tasulised-ja-tellitavad-koolitused">Loe rohkem</a>!</p><p><strong>Link: </strong>https://ametikool.ee/et/koolituste-kalender/esmaabi-koolitus-0</p><p><strong>Hind: </strong>30</p>
X-MICROSOFT-CDO-BUSYSTATUS:OOF
X-MICROSOFT-CDO-IMPORTANCE:1
X-MICROSOFT-DISALLOW-COUNTER:FALSE
X-MS-OLK-ALLOWEXTERNCHECK:TRUE
X-MS-OLK-CONFTYPE:0
X-MICROSOFT-CDO-ALLDAYEVENT:1
X-MICROSOFT-MSNCALENDAR-ALLDAYEVENT:1
END:VEVENT
END:VCALENDAR